BEGIN:VCALENDAR
VERSION:2.0
PRODID:-//ChamberMaster//Event Calendar 2.0//EN
METHOD:PUBLISH
X-PUBLISHED-TTL:P3D
REFRESH-INTERVAL:P3D
CALSCALE:GREGORIAN
BEGIN:VEVENT
DTSTART:20260618T210000Z
DTEND:20260618T230000Z
X-MICROSOFT-CDO-ALLDAYEVENT:FALSE
SUMMARY:Business After Hours - Loving WV
DESCRIPTION:Join us as we celebrate West Virginia Day a little early with a special Business After Hours at Loving WV!
X-ALT-DESC;FMTTYPE=text/html:Join us as we celebrate West Virginia Day a little early with a special Business After Hours at Loving WV!
LOCATION:219 Monroe Street Fairmont\, WV
UID:e.1697.794
SEQUENCE:3
DTSTAMP:20260420T222859Z
URL:https://business.marionchamber.com/events/details/business-after-hours-loving-wv-794
END:VEVENT

END:VCALENDAR
