BEGIN:VCALENDAR
VERSION:2.0
PRODID:-//ChamberMaster//Event Calendar 2.0//EN
METHOD:PUBLISH
X-PUBLISHED-TTL:P3D
REFRESH-INTERVAL:P3D
CALSCALE:GREGORIAN
BEGIN:VEVENT
DTSTART:20260518T210000Z
DTEND:20260518T230000Z
X-MICROSOFT-CDO-ALLDAYEVENT:FALSE
SUMMARY:Business After Hours - Megan Nixon Barbershop & Salon
DESCRIPTION:Join us for a Business After Hours at Megan Nixon Barbershop & Salon in the Middletown Commons.
X-ALT-DESC;FMTTYPE=text/html:Join us for a Business After Hours at Megan Nixon Barbershop &amp\; Salon in the Middletown Commons.<br />\n&nbsp\;
LOCATION:2600 Middletown Commons Suite 159
UID:e.1697.792
SEQUENCE:3
DTSTAMP:20260420T223137Z
URL:https://business.marionchamber.com/events/details/business-after-hours-megan-nixon-barbershop-salon-792
END:VEVENT

END:VCALENDAR
