BEGIN:VCALENDAR
VERSION:2.0
PRODID:-//ChamberMaster//Event Calendar 2.0//EN
METHOD:PUBLISH
X-PUBLISHED-TTL:P3D
REFRESH-INTERVAL:P3D
CALSCALE:GREGORIAN
BEGIN:VEVENT
DTSTART:20140514T180000Z
DTEND:20140514T200000Z
X-MICROSOFT-CDO-ALLDAYEVENT:FALSE
SUMMARY:Marion County Chamber Open House
DESCRIPTION:Marion County Chamber of Commerce \n\n"We Appreciate our Members"\n\nUnveiling our 2014-15 Directory
X-ALT-DESC;FMTTYPE=text/html:Marion County Chamber of Commerce&nbsp\;<br />\n<em>&quot\;We Appreciate our Members&quot\;<br />\nUnveiling our 2014-15 Directory&nbsp\;&nbsp\;&nbsp\;&nbsp\;</em>
LOCATION:110 Adams Street
UID:e.1697.54
SEQUENCE:3
DTSTAMP:20260421T024509Z
URL:https://business.marionchamber.com/events/details/marion-county-chamber-open-house-05-14-2014-54
END:VEVENT

END:VCALENDAR
