BEGIN:VCALENDAR
VERSION:2.0
PRODID:-//ChamberMaster//Event Calendar 2.0//EN
METHOD:PUBLISH
X-PUBLISHED-TTL:P3D
REFRESH-INTERVAL:P3D
CALSCALE:GREGORIAN
BEGIN:VEVENT
DTSTART:20130508T160000Z
DTEND:20130508T170000Z
X-MICROSOFT-CDO-ALLDAYEVENT:FALSE
SUMMARY:MCCC Executive Committee Meeting
DESCRIPTION:
X-ALT-DESC;FMTTYPE=text/html:
LOCATION:TBA
UID:e.1697.13
SEQUENCE:3
DTSTAMP:20260421T204455Z
URL:https://business.marionchamber.com/events/details/mccc-executive-committee-meeting-05-08-2013-13
END:VEVENT

END:VCALENDAR
