BEGIN:VCALENDAR
VERSION:2.0
PRODID:-//ChamberMaster//Event Calendar 2.0//EN
METHOD:PUBLISH
X-PUBLISHED-TTL:P3D
REFRESH-INTERVAL:P3D
CALSCALE:GREGORIAN
BEGIN:VEVENT
DTSTART;VALUE=DATE:20140526
DTEND;VALUE=DATE:20140527
TRANSP:TRANSPARENT
X-MICROSOFT-CDO-ALLDAYEVENT:TRUE
SUMMARY:Memorial Day
DESCRIPTION:MCCC office will be closed in observance of Memorial Day
X-ALT-DESC;FMTTYPE=text/html:MCCC office will be closed in observance of Memorial Day
LOCATION:
UID:e.1697.251
SEQUENCE:3
DTSTAMP:20260421T025157Z
URL:https://business.marionchamber.com/events/details/memorial-day-251
END:VEVENT

END:VCALENDAR
