BEGIN:VCALENDAR
VERSION:2.0
PRODID:-//ChamberMaster//Event Calendar 2.0//EN
METHOD:PUBLISH
X-PUBLISHED-TTL:P3D
REFRESH-INTERVAL:P3D
CALSCALE:GREGORIAN
BEGIN:VEVENT
DTSTART;VALUE=DATE:20140101
DTEND;VALUE=DATE:20140102
TRANSP:TRANSPARENT
X-MICROSOFT-CDO-ALLDAYEVENT:TRUE
SUMMARY:New Year's Day
DESCRIPTION:Happy New Year\n\nMCCC Offices Will Be Closed
X-ALT-DESC;FMTTYPE=text/html:Happy New Year<br />\nMCCC Offices Will Be Closed
LOCATION:
UID:e.1697.38
SEQUENCE:3
DTSTAMP:20260421T090650Z
URL:https://business.marionchamber.com/events/details/new-year-s-day-01-01-2014-38
END:VEVENT

END:VCALENDAR
