BEGIN:VCALENDAR
VERSION:2.0
PRODID:-//ChamberMaster//Event Calendar 2.0//EN
METHOD:PUBLISH
X-PUBLISHED-TTL:P3D
REFRESH-INTERVAL:P3D
CALSCALE:GREGORIAN
BEGIN:VEVENT
DTSTART:20260429T143000Z
DTEND:20260429T153000Z
X-MICROSOFT-CDO-ALLDAYEVENT:FALSE
SUMMARY:Ribbon Cutting - Jersey Mike's
DESCRIPTION:Join us as we cut the ribbon and officially welcome Jersey Mike's to Marion County!
X-ALT-DESC;FMTTYPE=text/html:Join us as we cut the ribbon and officially welcome Jersey Mike&#39\;s to Marion County!
LOCATION:229 Middletown Loop White Hall\, WV
UID:e.1697.793
SEQUENCE:3
DTSTAMP:20260420T223046Z
URL:https://business.marionchamber.com/events/details/ribbon-cutting-jersey-mike-s-793
END:VEVENT

END:VCALENDAR
